BEGIN:VCALENDAR
VERSION:2.0
PRODID:-//Basin Buzz//Events//EN
CALSCALE:GREGORIAN
METHOD:PUBLISH
BEGIN:VEVENT
UID:adult-board-game-night-2026-05-05@basinbuzz.com
SUMMARY:Adult Board Game Night
DTSTART:20260505T173000
DTEND:20260505T173000
LOCATION:Klamath County Library\, 126 South Third Street\, Klamath Falls\, 
 OR 97601
DESCRIPTION:View on Basin Buzz: https://basinbuzz.com/events/adult-board-ga
 me-night-2026-05-05\n\nJoin us for a variety of adult board and card games
 ! Build a beautiful tile mosaic in Azul\, become a train magnate in Ticket
  to Ride\, win a magical fight in Dungeon Brawl\, and much more.\nFeel fre
 e to bring your favorite game to share – aim for something you can teach a
  table of 3-6 players in an hour or so at most. For more information\, cal
 l (541) 882-8894 or visit the downtown library's Information & Reference d
 esk.\n\nMore info: https://klamathlibrary.org/library-events/adult-board-g
 ame-night-0505261730
URL:https://basinbuzz.com/events/adult-board-game-night-2026-05-05
END:VEVENT
END:VCALENDAR
