BEGIN:VCALENDAR
VERSION:2.0
PRODID:-//Basin Buzz//Events//EN
CALSCALE:GREGORIAN
METHOD:PUBLISH
BEGIN:VEVENT
UID:adult-board-game-night-2026-05-19@basinbuzz.com
SUMMARY:Adult Board Game Night
DTSTART:20260519T173000
DTEND:20260519T173000
LOCATION:Klamath County Library\, 126 South Third Street\, Klamath Falls\, 
 OR 97601
DESCRIPTION:View on Basin Buzz: https://basinbuzz.com/events/adult-board-ga
 me-night-2026-05-19\n\nJoin adults for a variety of board and card games a
 t the downtown library. Play games like Azul (build a beautiful tile mosai
 c)\, Ticket to Ride (become a train magnate)\, Dungeon Brawl (win a magica
 l fight)\, and more.\nFeel free to bring your favorite game to share—aim f
 or something you can teach a table of 3–6 players in an hour or so at most
 . For more information\, call (541) 882-8894 or visit the Information & Re
 ference desk.\n\nMore info: https://klamathlibrary.org/library-events/adul
 t-board-game-night-0519261730
URL:https://basinbuzz.com/events/adult-board-game-night-2026-05-19
END:VEVENT
END:VCALENDAR
