BEGIN:VCALENDAR
VERSION:2.0
PRODID:-//Basin Buzz//Events//EN
CALSCALE:GREGORIAN
METHOD:PUBLISH
BEGIN:VEVENT
UID:adult-chess-club-2026-05-02@basinbuzz.com
SUMMARY:Adult Chess Club
DTSTART:20260502T130000
DTEND:20260502T130000
LOCATION:Klamath County Library\, 126 South Third Street\, Klamath Falls\, 
 OR 97601
DESCRIPTION:View on Basin Buzz: https://basinbuzz.com/events/adult-chess-cl
 ub-2026-05-02\n\nJoin adult chess enthusiasts for a weekly game at the dow
 ntown Klamath County Library. All skill levels welcome—whether you're an e
 xperienced player or just discovered chess through The Queen's Gambit.\nMe
 ets every Saturday at 1 PM. For more information\, call (541) 882-8894.\n\
 nMore info: https://klamathlibrary.org/library-events/adult-chess-club-050
 2261300
URL:https://basinbuzz.com/events/adult-chess-club-2026-05-02
END:VEVENT
END:VCALENDAR
