BEGIN:VCALENDAR
VERSION:2.0
PRODID:-//Basin Buzz//Events//EN
CALSCALE:GREGORIAN
METHOD:PUBLISH
BEGIN:VEVENT
UID:adult-chess-club-2026-05-09@basinbuzz.com
SUMMARY:Adult Chess Club
DTSTART:20260509T130000
DTEND:20260509T130000
LOCATION:Klamath County Library\, 126 South Third Street\, Klamath Falls\, 
 OR 97601
DESCRIPTION:View on Basin Buzz: https://basinbuzz.com/events/adult-chess-cl
 ub-2026-05-09\n\nJoin adult chess enthusiasts for a weekly game at the dow
 ntown Klamath County Library. All skill levels welcome—even if your only c
 hess experience is watching The Queen's Gambit. Meet every Saturday at 1 p
 m to play against fellow players.\nFor more information\, call (541) 882-8
 894.\n\nMore info: https://klamathlibrary.org/library-events/adult-chess-c
 lub-0509261300
URL:https://basinbuzz.com/events/adult-chess-club-2026-05-09
END:VEVENT
END:VCALENDAR
