BEGIN:VCALENDAR
VERSION:2.0
PRODID:-//Basin Buzz//Events//EN
CALSCALE:GREGORIAN
METHOD:PUBLISH
BEGIN:VEVENT
UID:adult-chess-club-2026-05-16@basinbuzz.com
SUMMARY:Adult Chess Club
DTSTART:20260516T130000
DTEND:20260516T130000
LOCATION:Klamath County Library\, 126 South Third Street\, Klamath Falls\, 
 OR 97601
DESCRIPTION:View on Basin Buzz: https://basinbuzz.com/events/adult-chess-cl
 ub-2026-05-16\n\nJoin adult chess enthusiasts for a weekly game at the dow
 ntown Klamath County Library. All skill levels welcome—even if your only c
 hess experience is marathoning The Queen's Gambit on Netflix. Meet Saturda
 ys at 1 PM for casual play and community.\nFor more information\, call (54
 1) 882-8894.\n\nMore info: https://klamathlibrary.org/library-events/adult
 -chess-club-0516261300
URL:https://basinbuzz.com/events/adult-chess-club-2026-05-16
END:VEVENT
END:VCALENDAR
