BEGIN:VCALENDAR
VERSION:2.0
PRODID:-//Basin Buzz//Events//EN
CALSCALE:GREGORIAN
METHOD:PUBLISH
BEGIN:VEVENT
UID:adult-chess-club-2026-05-23@basinbuzz.com
SUMMARY:Adult Chess Club
DTSTART:20260523T130000
DTEND:20260523T130000
LOCATION:Klamath County Library\, 126 South Third Street\, Klamath Falls\, 
 OR 97601
DESCRIPTION:View on Basin Buzz: https://basinbuzz.com/events/adult-chess-cl
 ub-2026-05-23\n\nJoin adult chess enthusiasts for a casual game at the dow
 ntown Klamath County Library every Saturday at 1 PM. All skill levels welc
 ome—whether you're a seasoned player or your chess experience comes from b
 inge-watching The Queen's Gambit.\nFor more information\, call (541) 882-8
 894.\n\nMore info: https://klamathlibrary.org/library-events/adult-chess-c
 lub-0523261300
URL:https://basinbuzz.com/events/adult-chess-club-2026-05-23
END:VEVENT
END:VCALENDAR
