BEGIN:VCALENDAR
VERSION:2.0
PRODID:-//Basin Buzz//Events//EN
CALSCALE:GREGORIAN
METHOD:PUBLISH
BEGIN:VEVENT
UID:adult-chess-club-2026-05-30@basinbuzz.com
SUMMARY:Adult Chess Club
DTSTART:20260530T130000
DTEND:20260530T130000
LOCATION:Klamath County Library\, 126 South Third Street\, Klamath Falls\, 
 OR 97601
DESCRIPTION:View on Basin Buzz: https://basinbuzz.com/events/adult-chess-cl
 ub-2026-05-30\n\nJoin fellow adult chess enthusiasts for a casual game at 
 the downtown Klamath County Library. Saturdays at 1 PM\, all skill levels 
 welcome—even if your only chess experience is marathoning The Queen's Gamb
 it. For more information\, call (541) 882-8894.\n\nMore info: https://klam
 athlibrary.org/library-events/adult-chess-club-0530261300
URL:https://basinbuzz.com/events/adult-chess-club-2026-05-30
END:VEVENT
END:VCALENDAR
