BEGIN:VCALENDAR
VERSION:2.0
PRODID:-//Basin Buzz//Events//EN
CALSCALE:GREGORIAN
METHOD:PUBLISH
BEGIN:VEVENT
UID:adult-craft-workshop-tissue-paper-flowers-2026-05-20@basinbuzz.com
SUMMARY:Adult Craft Workshop: Tissue Paper Flowers
DTSTART:20260520T180000
DTEND:20260520T180000
LOCATION:Klamath County Library\, 126 South Third Street\, Klamath Falls\, 
 OR 97601
DESCRIPTION:View on Basin Buzz: https://basinbuzz.com/events/adult-craft-wo
 rkshop-tissue-paper-flowers-2026-05-20\n\nJoin us on the third Wednesday f
 or a fun craft project! This month\, participants will sculpt tissue paper
  into flowers\, inspired by Livia Cetti's The Exquisite Book of Paper Flow
 ers.\nFree materials are available while supplies last\, typically the fir
 st 25 attendees. For more information\, call 541-882-8894.\n\nMore info: h
 ttps://klamathlibrary.org/library-events/adult-craft-workshop-tissue-paper
 -flowers-0520260600
URL:https://basinbuzz.com/events/adult-craft-workshop-tissue-paper-flowers-
 2026-05-20
END:VEVENT
END:VCALENDAR
