BEGIN:VCALENDAR
VERSION:2.0
PRODID:-//Basin Buzz//Events//EN
CALSCALE:GREGORIAN
METHOD:PUBLISH
BEGIN:VEVENT
UID:adult-dungeons-and-dragons-2026-05-01@basinbuzz.com
SUMMARY:Adult Dungeons and Dragons
DTSTART:20260501T180000
DTEND:20260501T200000
LOCATION:Klamath County Library\, 126 South Third Street\, Klamath Falls\, 
 OR 97601
DESCRIPTION:View on Basin Buzz: https://basinbuzz.com/events/adult-dungeons
 -and-dragons-2026-05-01\n\nJoin a Dungeons and Dragons campaign for adults
 ! Multiple groups meet online on Tuesdays from 7 PM to 9 PM or Fridays fro
 m 6 PM to 8 PM\, depending on the campaign.\nThis group uses three free ap
 ps: Roll20\, a private Discord server\, and D&D Beyond. No previous rolepl
 aying experience is needed—all players are welcome. Help installing apps i
 s available.\nEmail Dungeonmaster Clinton at libsupply@klamathlibrary.org 
 to sign up.\n\nMore info: mailto:libsupply@klamathlibrary.org
URL:https://basinbuzz.com/events/adult-dungeons-and-dragons-2026-05-01
END:VEVENT
END:VCALENDAR
