BEGIN:VCALENDAR
VERSION:2.0
PRODID:-//Basin Buzz//Events//EN
CALSCALE:GREGORIAN
METHOD:PUBLISH
BEGIN:VEVENT
UID:adult-dungeons-and-dragons-2026-05-05@basinbuzz.com
SUMMARY:Adult Dungeons and Dragons
DTSTART:20260505T190000
DTEND:20260505T210000
LOCATION:Klamath County Library\, 126 South Third Street\, Klamath Falls\, 
 OR 97601
DESCRIPTION:View on Basin Buzz: https://basinbuzz.com/events/adult-dungeons
 -and-dragons-2026-05-05\n\nJoin us for a Dungeons and Dragons campaign for
  adults! Multiple groups of adventurers meet online on Tuesdays from 7pm t
 o 9pm\, or Fridays from 6pm to 8pm\, depending on the campaign.\nWe game o
 nline using a combination of three free apps: Roll20\, a private Discord s
 erver and D&D Beyond. No previous roleplaying experience needed — we welco
 me all players. If you need help installing any of the apps\, staff can as
 sist.\nEmail staff coordinator Clinton at libsupply@klamathlibrary.org to 
 join!\n\nMore info: https://klamathlibrary.org/library-events/adult-dungeo
 ns-and-dragons-0505261900
URL:https://basinbuzz.com/events/adult-dungeons-and-dragons-2026-05-05
END:VEVENT
END:VCALENDAR
