BEGIN:VCALENDAR
VERSION:2.0
PRODID:-//Basin Buzz//Events//EN
CALSCALE:GREGORIAN
METHOD:PUBLISH
BEGIN:VEVENT
UID:adult-dungeons-and-dragons-2026-05-12@basinbuzz.com
SUMMARY:Adult Dungeons and Dragons
DTSTART:20260512T190000
DTEND:20260512T210000
LOCATION:Klamath County Library\, 126 South Third Street\, Klamath Falls\, 
 OR 97601
DESCRIPTION:View on Basin Buzz: https://basinbuzz.com/events/adult-dungeons
 -and-dragons-2026-05-12\n\nJoin a Dungeons and Dragons campaign for adults
  meeting online on Tuesdays from 7pm to 9pm. Multiple groups of adventurer
 s play using Roll20\, a private Discord server\, and D&D Beyond—all free a
 pps. No previous roleplaying experience needed\; the library welcomes all 
 players and can assist with app installation.\nEmail staff coordinator Cli
 nton at libsupply@klamathlibrary.org to join.\n\nMore info: https://klamat
 hlibrary.org/library-events/adult-dungeons-and-dragons-0512261900
URL:https://basinbuzz.com/events/adult-dungeons-and-dragons-2026-05-12
END:VEVENT
END:VCALENDAR
