BEGIN:VCALENDAR
VERSION:2.0
PRODID:-//Basin Buzz//Events//EN
CALSCALE:GREGORIAN
METHOD:PUBLISH
BEGIN:VEVENT
UID:adult-dungeons-and-dragons-2026-05-19@basinbuzz.com
SUMMARY:Adult Dungeons and Dragons
DTSTART:20260519T190000
DTEND:20260519T210000
LOCATION:Klamath County Library\, 126 South Third Street\, Klamath Falls\, 
 OR 97601
DESCRIPTION:View on Basin Buzz: https://basinbuzz.com/events/adult-dungeons
 -and-dragons-2026-05-19\n\nJoin us for a Dungeons and Dragons campaign for
  adults! We have multiple groups of adventurers that meet online on Tuesda
 ys from 7pm to 9pm\, or Fridays from 6pm to 8pm\, depending on the campaig
 n.\nWe game online using a combination of three free apps: Roll20\, a priv
 ate Discord server and D&D Beyond. No previous roleplaying experience need
 ed—we welcome all players. If you need help installing any of the apps\, l
 ibrary staff can assist.\nEmail staff coordinator Clinton at libsupply@kla
 mathlibrary.org to join.\n\nMore info: https://klamathlibrary.org/library-
 events/adult-dungeons-and-dragons-0519261900
URL:https://basinbuzz.com/events/adult-dungeons-and-dragons-2026-05-19
END:VEVENT
END:VCALENDAR
