BEGIN:VCALENDAR
VERSION:2.0
PRODID:-//Basin Buzz//Events//EN
CALSCALE:GREGORIAN
METHOD:PUBLISH
BEGIN:VEVENT
UID:adult-dungeons-and-dragons-2026-05-22@basinbuzz.com
SUMMARY:Adult Dungeons and Dragons
DTSTART:20260522T180000
DTEND:20260522T200000
LOCATION:Klamath County Library\, 126 South Third Street\, Klamath Falls\, 
 OR 97601
DESCRIPTION:View on Basin Buzz: https://basinbuzz.com/events/adult-dungeons
 -and-dragons-2026-05-22\n\nJoin us for a Dungeons and Dragons campaign for
  adults! Multiple groups of adventurers meet online on Tuesdays from 7pm t
 o 9pm\, or Fridays from 6pm to 8pm\, depending on the campaign.\nWe game o
 nline using a combination of three free apps: Roll20\, a private Discord s
 erver\, and D&D Beyond. No previous roleplaying experience needed — we wel
 come all players. If you need help installing any of the apps\, we can ass
 ist you.\nEmail staff coordinator Clinton at libsupply@klamathlibrary.org 
 to join!\n\nMore info: https://klamathlibrary.org/library-events/adult-dun
 geons-and-dragons-0522261800
URL:https://basinbuzz.com/events/adult-dungeons-and-dragons-2026-05-22
END:VEVENT
END:VCALENDAR
