BEGIN:VCALENDAR
VERSION:2.0
PRODID:-//Basin Buzz//Events//EN
CALSCALE:GREGORIAN
METHOD:PUBLISH
BEGIN:VEVENT
UID:adult-dungeons-and-dragons-2026-05-29@basinbuzz.com
SUMMARY:Adult Dungeons and Dragons
DTSTART:20260529T180000
DTEND:20260529T200000
LOCATION:Klamath County Library\, 126 South Third Street\, Klamath Falls\, 
 OR 97601
DESCRIPTION:View on Basin Buzz: https://basinbuzz.com/events/adult-dungeons
 -and-dragons-2026-05-29\n\nJoin a Dungeons and Dragons campaign for adults
 ! Multiple groups meet online on Tuesdays from 7–9 PM or Fridays from 6–8 
 PM\, depending on the campaign.\nGames use Roll20\, a private Discord serv
 er\, and D&D Beyond (all free apps). No previous roleplaying experience ne
 eded—all players welcome. Staff can help with app installation.\nEmail Dun
 geonmaster Clinton at libsupply@klamathlibrary.org to sign up.\n\nMore inf
 o: https://klamathlibrary.org/library-events/adult-dungeons-and-dragons-05
 29261800
URL:https://basinbuzz.com/events/adult-dungeons-and-dragons-2026-05-29
END:VEVENT
END:VCALENDAR
