BEGIN:VCALENDAR
VERSION:2.0
PRODID:-//Basin Buzz//Events//EN
CALSCALE:GREGORIAN
METHOD:PUBLISH
BEGIN:VEVENT
UID:art-for-all-pine-needle-basket-weaving-2026-05-07@basinbuzz.com
SUMMARY:Art for All: Pine Needle Basket Weaving
DTSTART:20260507T060000
DTEND:20260507T060000
LOCATION:Klamath County Library\, 126 South Third Street\, Klamath Falls\, 
 OR 97601
DESCRIPTION:View on Basin Buzz: https://basinbuzz.com/events/art-for-all-pi
 ne-needle-basket-weaving-2026-05-07\n\nLearn pine needle basket weaving in
  this popular Art for All workshop. This class filled up quickly\, so regi
 stration is limited. For more information\, call (541) 882-8894.\nAudience
 : Adults and Teens\n\nMore info: https://klamathlibrary.org/library-events
 /full-art-all-pine-needle-basket-weaving-0507260600
URL:https://basinbuzz.com/events/art-for-all-pine-needle-basket-weaving-202
 6-05-07
END:VEVENT
END:VCALENDAR
