BEGIN:VCALENDAR
VERSION:2.0
PRODID:-//Basin Buzz//Events//EN
CALSCALE:GREGORIAN
METHOD:PUBLISH
BEGIN:VEVENT
UID:banned-book-club-1984-2026-05-22@basinbuzz.com
SUMMARY:Banned Book Club: 1984
DTSTART:20260522T153000
DTEND:20260522T153000
LOCATION:Klamath County Library\, 126 South Third Street\, Klamath Falls\, 
 OR 97601
DESCRIPTION:View on Basin Buzz: https://basinbuzz.com/events/banned-book-cl
 ub-1984-2026-05-22\n\nJoin the monthly Banned Book Club for a discussion o
 f 1984 by George Orwell. This ongoing series explores books that have been
  challenged or banned from libraries in America and examines the reasons b
 ehind censorship efforts.\nPick up your copy at the downtown library's Inf
 ormation & Reference Desk\, or access it as an ebook or audiobook through 
 the Hoopla app. For more information\, call (541) 882-8894.\nAudience: Adu
 lts\n\nMore info: https://klamathlibrary.org/library-events/banned-book-cl
 ub-1984-0522261530
URL:https://basinbuzz.com/events/banned-book-club-1984-2026-05-22
END:VEVENT
END:VCALENDAR
