BEGIN:VCALENDAR
VERSION:2.0
PRODID:-//Basin Buzz//Events//EN
CALSCALE:GREGORIAN
METHOD:PUBLISH
BEGIN:VEVENT
UID:basin-board-card-gamers-2026-05-01@basinbuzz.com
SUMMARY:Basin Board & Card Gamers
DTSTART:20260501T143000
DTEND:20260501T143000
LOCATION:Klamath County Library\, 126 South Third Street\, Klamath Falls\, 
 OR 97601
DESCRIPTION:View on Basin Buzz: https://basinbuzz.com/events/basin-board-ca
 rd-gamers-2026-05-01\n\nJoin the Basin Board & Card Gamers for a casual ga
 thering of tabletop game enthusiasts. This weekly meetup welcomes a wide v
 ariety of games and players of all skill levels. For teens and adults ages
  12 and up.\n\nMore info: https://klamathlibrary.org/library-events/basin-
 board-card-gamers-0501261430
URL:https://basinbuzz.com/events/basin-board-card-gamers-2026-05-01
END:VEVENT
END:VCALENDAR
