BEGIN:VCALENDAR
VERSION:2.0
PRODID:-//Basin Buzz//Events//EN
CALSCALE:GREGORIAN
METHOD:PUBLISH
BEGIN:VEVENT
UID:basin-board-card-gamers-2026-05-08@basinbuzz.com
SUMMARY:Basin Board & Card Gamers
DTSTART:20260508T143000
DTEND:20260508T143000
LOCATION:Klamath County Library\, 126 South Third Street\, Klamath Falls\, 
 OR 97601
DESCRIPTION:View on Basin Buzz: https://basinbuzz.com/events/basin-board-ca
 rd-gamers-2026-05-08\n\nJoin the Basin Board & Card Gamers for a casual ga
 thering of board game and card game enthusiasts. Stop by on Fridays at 2:3
 0 PM for a wide variety of games. Open to teens and adults ages 12 and up.
 \n\nMore info: https://klamathlibrary.org/library-events/basin-board-card-
 gamers-0508261430
URL:https://basinbuzz.com/events/basin-board-card-gamers-2026-05-08
END:VEVENT
END:VCALENDAR
