BEGIN:VCALENDAR
VERSION:2.0
PRODID:-//Basin Buzz//Events//EN
CALSCALE:GREGORIAN
METHOD:PUBLISH
BEGIN:VEVENT
UID:basin-board-card-gamers-2026-05-15@basinbuzz.com
SUMMARY:Basin Board & Card Gamers
DTSTART:20260515T143000
DTEND:20260515T143000
LOCATION:Klamath County Library\, 126 South Third Street\, Klamath Falls\, 
 OR 97601
DESCRIPTION:View on Basin Buzz: https://basinbuzz.com/events/basin-board-ca
 rd-gamers-2026-05-15\n\nJoin the Basin Board & Card Gamers for a casual ga
 thering of game enthusiasts. This recurring Friday event welcomes a wide v
 ariety of board games and card games for players of all skill levels. Open
  to teens and adults ages 12 and up.\n\nMore info: https://klamathlibrary.
 org/library-events/basin-board-card-gamers-0515261430
URL:https://basinbuzz.com/events/basin-board-card-gamers-2026-05-15
END:VEVENT
END:VCALENDAR
