BEGIN:VCALENDAR
VERSION:2.0
PRODID:-//Basin Buzz//Events//EN
CALSCALE:GREGORIAN
METHOD:PUBLISH
BEGIN:VEVENT
UID:bean-baby-part-one-2026-05-07@basinbuzz.com
SUMMARY:Bean Baby! (Part One)
DTSTART:20260507T170000
DTEND:20260507T170000
LOCATION:Klamath County Library\, 126 South Third Street\, Klamath Falls\, 
 OR 97601
DESCRIPTION:View on Basin Buzz: https://basinbuzz.com/events/bean-baby-part
 -one-2026-05-07\n\nKids ages 12 and under explore gardening to celebrate s
 pring. Participants will start a bean adventure by setting up a bean to sp
 rout in a sandwich bag—choose from Strike Snap Bush Bean\, Provider Bush B
 ean\, or Lima Bean. This is part one of a two-session series\; part two oc
 curs on May 21st at 5pm\, where you'll plant your sprouted bean into biode
 gradable pots to develop roots.\nImportant: To get the full experience\, a
 ttendance at both sessions is recommended. Space is limited.\nRegistration
 : Register at the provided form or stop by the Youth Services desk. For mo
 re information\, call 541-882-8894.\n\nMore info: https://forms.gle/FMp2GN
 wy1xKCq7gd9
URL:https://basinbuzz.com/events/bean-baby-part-one-2026-05-07
END:VEVENT
END:VCALENDAR
