BEGIN:VCALENDAR
VERSION:2.0
PRODID:-//Basin Buzz//Events//EN
CALSCALE:GREGORIAN
METHOD:PUBLISH
BEGIN:VEVENT
UID:bean-baby-part-two-2026-05-21@basinbuzz.com
SUMMARY:Bean Baby! (Part Two)
DTSTART:20260521T170000
DTEND:20260521T170000
LOCATION:Klamath County Library\, 126 South Third Street\, Klamath Falls\, 
 OR 97601
DESCRIPTION:View on Basin Buzz: https://basinbuzz.com/events/bean-baby-part
 -two-2026-05-21\n\nKids ages 12 and under get a taste of gardening to cele
 brate spring. This is part two of a two-part bean-growing adventure. On Ma
 y 7th\, participants selected and sprouted a bean (Strike Snap Bush Bean\,
  Provider Bush Bean\, or Lima Bean) in a sandwich bag. On May 21st\, we me
 et again to plant the tiny baby bean plants into biodegradable pots to wor
 k on their roots.\nNote: To get the full experience\, it is important to b
 e present at both events. Space is limited\; registration is required.\n\n
 More info: https://forms.gle/FMp2GNwy1xKCq7gd9
URL:https://basinbuzz.com/events/bean-baby-part-two-2026-05-21
END:VEVENT
END:VCALENDAR
