BEGIN:VCALENDAR
VERSION:2.0
PRODID:-//Basin Buzz//Events//EN
CALSCALE:GREGORIAN
METHOD:PUBLISH
BEGIN:VEVENT
UID:beyond-250-conversations-project-2026-05-16@basinbuzz.com
SUMMARY:Beyond 250 Conversations Project
DTSTART:20260516T140000
DTEND:20260516T140000
LOCATION:Klamath County Library\, 126 South Third Street\, Klamath Falls\, 
 OR 97601
DESCRIPTION:View on Basin Buzz: https://basinbuzz.com/events/beyond-250-con
 versations-project-2026-05-16\n\nThe Beyond 250 Conversation Project by Or
 egon Humanities examines complex stories of who we are as a nation and com
 munity. This event focuses on Science\, Religion\, and Public Policy\, fac
 ilitated by professor Prakash Chenjeri of Southern Oregon University.\nThe
  conversation explores issues that spark conflicts between scientific find
 ings\, religious beliefs\, and public policies—such as climate change\, me
 dical ethics\, and public health. Participants share perspectives in small
  groups to move beyond inflammatory headlines and engage with what matters
  most.\nChenjeri is a professor and chair of the philosophy program at Sou
 thern Oregon University. His research focuses on citizenship\, scientific 
 literacy's role in democracy\, and debates over science and religion.\nAud
 ience: Adults and teens. For more information\, call 541-882-8894.\n\nMore
  info: https://klamathlibrary.org/library-events/beyond-250-conversations-
 project-0516261400
URL:https://basinbuzz.com/events/beyond-250-conversations-project-2026-05-1
 6
END:VEVENT
END:VCALENDAR
