BEGIN:VCALENDAR
VERSION:2.0
PRODID:-//Basin Buzz//Events//EN
CALSCALE:GREGORIAN
METHOD:PUBLISH
BEGIN:VEVENT
UID:bookmark-bunch-book-club-junie-b-first-grader-2026-05-13@basinbuzz.com
SUMMARY:Bookmark Bunch Book Club: Junie B.\, First Grader
DTSTART:20260513T163000
DTEND:20260513T163000
LOCATION:Klamath County Library\, 126 South Third Street\, Klamath Falls\, 
 OR 97601
DESCRIPTION:View on Basin Buzz: https://basinbuzz.com/events/bookmark-bunch
 -book-club-junie-b-first-grader-2026-05-13\n\nJoin the Bookmark Bunch Book
  Club for ages 9–12 to discuss Junie B.\, First Grader (at last!) by Barba
 ra Park. Pick up your copy at the Youth Services desk before the meeting.\
 n\nMore info: https://klamathlibrary.org/library-events/bookmark-bunch-boo
 k-club-junie-b-first-grader-last-0513261630
URL:https://basinbuzz.com/events/bookmark-bunch-book-club-junie-b-first-gra
 der-2026-05-13
END:VEVENT
END:VCALENDAR
