BEGIN:VCALENDAR
VERSION:2.0
PRODID:-//Basin Buzz//Events//EN
CALSCALE:GREGORIAN
METHOD:PUBLISH
BEGIN:VEVENT
UID:buried-in-treasures-dealing-with-clutter-2026-05-04@basinbuzz.com
SUMMARY:Buried in Treasures: Dealing with Clutter
DTSTART:20260504T110000
DTEND:20260504T123000
LOCATION:Klamath County Library\, 126 South Third Street\, Klamath Falls\, 
 OR 97601
DESCRIPTION:View on Basin Buzz: https://basinbuzz.com/events/buried-in-trea
 sures-dealing-with-clutter-2026-05-04\n\nA weekly course led by Kelli Olso
 n Bowers and Patty Card from Klamath Basin Behavioral Health designed to h
 elp adults develop skills to clear away clutter and prevent it from taking
  over their living space.\nThis group meets Mondays at 11:00 AM and is int
 ended for individuals living with chronic clutter who want to change. Not 
 for service providers or family members.\nRegistration required. Sign up b
 y emailing Patty Card at pcard@kbbh.org or calling 458-200-4257.\n\nMore i
 nfo: https://klamathlibrary.org/library-events/buried-treasures-dealing-cl
 utter-0504261100
URL:https://basinbuzz.com/events/buried-in-treasures-dealing-with-clutter-2
 026-05-04
END:VEVENT
END:VCALENDAR
