BEGIN:VCALENDAR
VERSION:2.0
PRODID:-//Basin Buzz//Events//EN
CALSCALE:GREGORIAN
METHOD:PUBLISH
BEGIN:VEVENT
UID:buried-in-treasures-dealing-with-clutter-2026-05-11@basinbuzz.com
SUMMARY:Buried in Treasures: Dealing with Clutter
DTSTART:20260511T110000
DTEND:20260511T123000
LOCATION:Klamath County Library\, 126 South Third Street\, Klamath Falls\, 
 OR 97601
DESCRIPTION:View on Basin Buzz: https://basinbuzz.com/events/buried-in-trea
 sures-dealing-with-clutter-2026-05-11\n\nA weekly course led by Kelli Olso
 n Bowers and Patty Card from Klamath Basin Behavioral Health to help you d
 evelop the skills to clear away clutter and prevent it from taking over yo
 ur living space.\nThis group is designed for adults living with chronic cl
 utter who want to change. Not for service providers or family members. Mee
 ts Mondays at 11am.\nRegistration required: Email Patty Card at pcard@kbbh
 .org or call 458-200-4257.\n\nMore info: https://klamathlibrary.org/librar
 y-events/buried-treasures-dealing-clutter-0511261100
URL:https://basinbuzz.com/events/buried-in-treasures-dealing-with-clutter-2
 026-05-11
END:VEVENT
END:VCALENDAR
