BEGIN:VCALENDAR
VERSION:2.0
PRODID:-//Basin Buzz//Events//EN
CALSCALE:GREGORIAN
METHOD:PUBLISH
BEGIN:VEVENT
UID:buried-in-treasures-dealing-with-clutter-2026-05-18@basinbuzz.com
SUMMARY:Buried in Treasures: Dealing with Clutter
DTSTART:20260518T110000
DTEND:20260518T123000
LOCATION:Klamath County Library\, 126 South Third Street\, Klamath Falls\, 
 OR 97601
DESCRIPTION:View on Basin Buzz: https://basinbuzz.com/events/buried-in-trea
 sures-dealing-with-clutter-2026-05-18\n\nEveryone has to deal with clutter
  from time to time\, but if you're finding it especially difficult to part
  with items\, you might need extra help. Buried in Treasures is a weekly c
 ourse led by Kelli Olson Bowers and Patty Card from Klamath Basin Behavior
 al Health to help you develop the skills to clear away the mess and preven
 t it from taking over your living space.\nThe group meets on Mondays at 11
 :00 AM. This course is for adults living with chronic clutter who want to 
 change—not for service providers or family members. Registration is requir
 ed.\nTo register: Email Patty Card at pcard@kbbh.org or call 458-200-4257.
 \n\nMore info: https://klamathlibrary.org/library-events/buried-treasures-
 dealing-clutter-0518261100
URL:https://basinbuzz.com/events/buried-in-treasures-dealing-with-clutter-2
 026-05-18
END:VEVENT
END:VCALENDAR
