BEGIN:VCALENDAR
VERSION:2.0
PRODID:-//Basin Buzz//Events//EN
CALSCALE:GREGORIAN
METHOD:PUBLISH
BEGIN:VEVENT
UID:ccb-exam-prep-course-in-spanish-in-person-2026-04-23@basinbuzz.com
SUMMARY:CCB Exam Prep Course in Spanish (In-Person)
DTSTART:20260423T080000
DTEND:20260424T170000
LOCATION:Klamath IDEA\, 803 Main St Suite 103\, Klamath Falls\, OR 97601
DESCRIPTION:View on Basin Buzz: https://basinbuzz.com/events/ccb-exam-prep-
 course-in-spanish-in-person-2026-04-23\n\nThis two-day course (April 23–24
 ) prepares students to take the Oregon Contractors and Construction Board 
 (CCB) exam required for contractor certification in Oregon. The course is 
 delivered live remotely by a certified CCB education provider and meets th
 e pre-exam education requirement under Oregon Revised Statute 701.280.\nTh
 e 14 chapters of the NASCLA manual are divided into 4 lessons\, with an ex
 am following each lesson covering those chapters. Students must bring a dr
 iver's license or other government-issued ID to the center before the firs
 t class. Class size is limited to six students. The course includes the CC
 B exam.\nRegistration deadline: one week before the course begins. Contact
  Wendi Lawson at 541-205-5404 or send email for registration details.\n\nM
 ore info: https://business.klamath.org/events/Details/junta-de-contratista
 s-de-construccion-ccb-en-espanol-preparacion-y-examen-en-persona-1700458?s
 ourceTypeId=Website
URL:https://basinbuzz.com/events/ccb-exam-prep-course-in-spanish-in-person-
 2026-04-23
END:VEVENT
END:VCALENDAR
