BEGIN:VCALENDAR
VERSION:2.0
PRODID:-//Basin Buzz//Events//EN
CALSCALE:GREGORIAN
METHOD:PUBLISH
BEGIN:VEVENT
UID:closure-memorial-day-2026-05-25@basinbuzz.com
SUMMARY:Closure - Memorial Day
DTSTART;VALUE=DATE:20260525
DTEND;VALUE=DATE:20260526
LOCATION:Klamath County Library
DESCRIPTION:View on Basin Buzz: https://basinbuzz.com/events/closure-memori
 al-day-2026-05-25\n\nAll Klamath County libraries will be closed on Monday
 \, May 25th in observance of Memorial Day. No materials will be due on a d
 ay that the libraries are closed.\n\nMore info: https://klamathlibrary.org
 /library-events/closure-memorial-day-0525260000
URL:https://basinbuzz.com/events/closure-memorial-day-2026-05-25
END:VEVENT
END:VCALENDAR
