BEGIN:VCALENDAR
VERSION:2.0
PRODID:-//Basin Buzz//Events//EN
CALSCALE:GREGORIAN
METHOD:PUBLISH
BEGIN:VEVENT
UID:community-storytime-author-whitney-wedam-2026-05-28@basinbuzz.com
SUMMARY:Community Storytime: Author Whitney Wedam
DTSTART:20260528T170000
DTEND:20260528T170000
LOCATION:Klamath County Library\, 126 South Third Street\, Klamath Falls\, 
 OR 97601
DESCRIPTION:View on Basin Buzz: https://basinbuzz.com/events/community-stor
 ytime-author-whitney-wedam-2026-05-28\n\nJoin local author Whitney Wedam f
 or Community Storytime\, an event featuring stories and games with folks f
 rom across the Klamath Basin. This event is open to all ages.\nInterested 
 in hosting a future Community Storytime? Contact Gloria Reyes at greyes@kl
 amathlibrary.org or 541-882-8894 ext. 34.\n\nMore info: https://klamathlib
 rary.org/library-events/community-storytime-author-whitney-wedam-052826170
 0
URL:https://basinbuzz.com/events/community-storytime-author-whitney-wedam-2
 026-05-28
END:VEVENT
END:VCALENDAR
