BEGIN:VCALENDAR
VERSION:2.0
PRODID:-//Basin Buzz//Events//EN
CALSCALE:GREGORIAN
METHOD:PUBLISH
BEGIN:VEVENT
UID:cub-s-club-arts-crafts-2026-05-06@basinbuzz.com
SUMMARY:Cub's Club Arts & Crafts
DTSTART:20260506T163000
DTEND:20260506T163000
LOCATION:Klamath County Library\, 126 South Third Street\, Klamath Falls\, 
 OR 97601
DESCRIPTION:View on Basin Buzz: https://basinbuzz.com/events/cub-s-club-art
 s-crafts-2026-05-06\n\nA fun craft activity for kids ages 5–9 at the main 
 library branch.\n\nMore info: https://klamathlibrary.org/library-events/cu
 bs-club-arts-crafts-0506261630
URL:https://basinbuzz.com/events/cub-s-club-arts-crafts-2026-05-06
END:VEVENT
END:VCALENDAR
