BEGIN:VCALENDAR
VERSION:2.0
PRODID:-//Basin Buzz//Events//EN
CALSCALE:GREGORIAN
METHOD:PUBLISH
BEGIN:VEVENT
UID:distinguished-gentleman-s-ride-2026-05-17@basinbuzz.com
SUMMARY:Distinguished Gentleman's Ride
DTSTART:20260517T090000
DTEND:20260517T090000
LOCATION:Running Y Ranch Resort\, 5500 Running Y Rd\, Klamath Falls\, OR 97
 601
DESCRIPTION:View on Basin Buzz: https://basinbuzz.com/events/distinguished-
 gentleman-s-ride-2026-05-17\n\nA global motorcycle ride uniting classic an
 d vintage bike enthusiasts to raise awareness and funds for men's health\,
  including prostate cancer research and mental health initiatives. Riders 
 suit up in their finest and roll out together in cities around the world —
  Klamath Falls is part of this worldwide movement.\nJoin thousands of clas
 sic motorcycle enthusiasts worldwide raising funds and awareness for prost
 ate cancer and men's mental health. Whether you ride\, donate\, or spread 
 the word\, every action strengthens the global mission to improve men's he
 alth.\nMaking a weekend of it? Use promo code GENTLEMEN to book your stay 
 at Running Y Ranch Resort.\n\nMore info: https://gentlemansride.com/
URL:https://basinbuzz.com/events/distinguished-gentleman-s-ride-2026-05-17
END:VEVENT
END:VCALENDAR
