BEGIN:VCALENDAR
VERSION:2.0
PRODID:-//Basin Buzz//Events//EN
CALSCALE:GREGORIAN
METHOD:PUBLISH
BEGIN:VEVENT
UID:doc-talk-with-dr-decker-hormones-and-the-endocrine-system-2026-05-13@ba
 sinbuzz.com
SUMMARY:Doc Talk with Dr. Decker: Hormones and the Endocrine System
DTSTART:20260513T173000
DTEND:20260513T173000
LOCATION:Klamath County Library
DESCRIPTION:View on Basin Buzz: https://basinbuzz.com/events/doc-talk-with-
 dr-decker-hormones-and-the-endocrine-system-2026-05-13\n\nSky Lakes family
  medicine physician Dr. Stewart Decker returns for a jargon-free discussio
 n on health issues. This session covers how hormones work in your body\, p
 lus a town-hall-style patient Q&A for general questions and topic suggesti
 ons for future Doc Talk events.\nNote: While Dr. Decker is a physician\, h
 e is not your personal doctor and his ability to comment on specific condi
 tions is limited.\n\nMore info: https://klamathlibrary.org/library-events/
 doc-talk-dr-decker-hormones-and-endocrine-system-0513261730
URL:https://basinbuzz.com/events/doc-talk-with-dr-decker-hormones-and-the-e
 ndocrine-system-2026-05-13
END:VEVENT
END:VCALENDAR
