BEGIN:VCALENDAR
VERSION:2.0
PRODID:-//Basin Buzz//Events//EN
CALSCALE:GREGORIAN
METHOD:PUBLISH
BEGIN:VEVENT
UID:drop-in-kids-crafts-2026-05-16@basinbuzz.com
SUMMARY:Drop-In Kids Crafts
DTSTART:20260516T130000
DTEND:20260516T160000
LOCATION:Klamath County Library\, 126 South Third Street\, Klamath Falls\, 
 OR 97601
DESCRIPTION:View on Basin Buzz: https://basinbuzz.com/events/drop-in-kids-c
 rafts-2026-05-16\n\nStop by for a self-paced craft project and let the lib
 rary handle cleanup. Choose from various activities designed for ages 3 to
  12\, with plenty of glitter and creative fun.\n\nMore info: https://klama
 thlibrary.org/library-events/drop-kids-crafts-0516261300
URL:https://basinbuzz.com/events/drop-in-kids-crafts-2026-05-16
END:VEVENT
END:VCALENDAR
