BEGIN:VCALENDAR
VERSION:2.0
PRODID:-//Basin Buzz//Events//EN
CALSCALE:GREGORIAN
METHOD:PUBLISH
BEGIN:VEVENT
UID:drop-in-kids-crafts-2026-05-21@basinbuzz.com
SUMMARY:Drop-In Kids Crafts
DTSTART:20260521T150000
DTEND:20260521T180000
LOCATION:Klamath County Library\, 126 South Third Street\, Klamath Falls\, 
 OR 97601
DESCRIPTION:View on Basin Buzz: https://basinbuzz.com/events/drop-in-kids-c
 rafts-2026-05-21\n\nStop by for a project to work on at your own pace\, an
 d let us worry about cleaning up all the glitter! For ages 3 to 12.\n\nMor
 e info: https://klamathlibrary.org/library-events/drop-kids-crafts-0521261
 500
URL:https://basinbuzz.com/events/drop-in-kids-crafts-2026-05-21
END:VEVENT
END:VCALENDAR
