BEGIN:VCALENDAR
VERSION:2.0
PRODID:-//Basin Buzz//Events//EN
CALSCALE:GREGORIAN
METHOD:PUBLISH
BEGIN:VEVENT
UID:fiber-art-circle-2026-05-02@basinbuzz.com
SUMMARY:Fiber Art Circle
DTSTART:20260502T110000
DTEND:20260502T130000
LOCATION:Klamath County Library\, 126 South Third Street\, Klamath Falls\, 
 OR 97601
DESCRIPTION:View on Basin Buzz: https://basinbuzz.com/events/fiber-art-circ
 le-2026-05-02\n\nHang out with other fiber artists while you work on your 
 knitting\, crochet\, embroidery\, and other projects. Share patterns\, get
  ideas\, and enjoy the company of fellow devotees of all things yarn\, thr
 ead\, and fabric.\nAll fiber crafts are welcome. The Fiber Art Circle meet
 s on Tuesdays at 6:00 PM and Saturdays from 11:00 AM to 1:00 PM at the dow
 ntown Klamath County Library.\n\nMore info: https://klamathlibrary.org/lib
 rary-events/fiber-art-circle-0502261100
URL:https://basinbuzz.com/events/fiber-art-circle-2026-05-02
END:VEVENT
END:VCALENDAR
