BEGIN:VCALENDAR
VERSION:2.0
PRODID:-//Basin Buzz//Events//EN
CALSCALE:GREGORIAN
METHOD:PUBLISH
BEGIN:VEVENT
UID:fiber-art-circle-2026-05-05@basinbuzz.com
SUMMARY:Fiber Art Circle
DTSTART:20260505T180000
DTEND:20260505T180000
LOCATION:Klamath County Library\, 126 South Third Street\, Klamath Falls\, 
 OR 97601
DESCRIPTION:View on Basin Buzz: https://basinbuzz.com/events/fiber-art-circ
 le-2026-05-05\n\nHang out with other fiber artists while you work on your 
 knitting\, crochet\, embroidery\, and other projects. Share patterns\, get
  ideas\, and enjoy the company of fellow devotees of all things yarn\, thr
 ead\, and fabric.\nFiber Art Circle meets Tuesdays at 6:00 PM and Saturday
 s from 11:00 AM to 1:00 PM at the downtown Klamath County Library. All fib
 er crafts are welcome. Audience: Adults.\nFor more information\, call (541
 ) 882-8894.\n\nMore info: https://klamathlibrary.org/library-events/fiber-
 art-circle-0505261800
URL:https://basinbuzz.com/events/fiber-art-circle-2026-05-05
END:VEVENT
END:VCALENDAR
