BEGIN:VCALENDAR
VERSION:2.0
PRODID:-//Basin Buzz//Events//EN
CALSCALE:GREGORIAN
METHOD:PUBLISH
BEGIN:VEVENT
UID:fiber-art-circle-2026-05-09@basinbuzz.com
SUMMARY:Fiber Art Circle
DTSTART:20260509T110000
DTEND:20260509T130000
LOCATION:Klamath County Library\, 126 South Third Street\, Klamath Falls\, 
 OR 97601
DESCRIPTION:View on Basin Buzz: https://basinbuzz.com/events/fiber-art-circ
 le-2026-05-09\n\nHang out with other fiber artists while you work on your 
 knitting\, crochet\, embroidery\, and other projects. Join the Fiber Art C
 ircle to share patterns\, get ideas\, and enjoy the company of fellow devo
 tees of all things yarn\, thread\, and fabric. All fiber crafts are welcom
 e.\nThe Fiber Art Circle meets on Tuesdays at 6:00 PM and Saturdays from 1
 1:00 AM to 1:00 PM at the downtown Klamath County Library. This event is f
 or adults.\n\nMore info: https://klamathlibrary.org/library-events/fiber-a
 rt-circle-0509261100
URL:https://basinbuzz.com/events/fiber-art-circle-2026-05-09
END:VEVENT
END:VCALENDAR
