BEGIN:VCALENDAR
VERSION:2.0
PRODID:-//Basin Buzz//Events//EN
CALSCALE:GREGORIAN
METHOD:PUBLISH
BEGIN:VEVENT
UID:fiber-art-circle-2026-05-12@basinbuzz.com
SUMMARY:Fiber Art Circle
DTSTART:20260512T180000
DTEND:20260512T180000
LOCATION:Klamath County Library\, 126 South Third Street\, Klamath Falls\, 
 OR 97601
DESCRIPTION:View on Basin Buzz: https://basinbuzz.com/events/fiber-art-circ
 le-2026-05-12\n\nHang out with other fiber artists while you work on your 
 knitting\, crochet\, embroidery\, and other projects. Join the Fiber Art C
 ircle on Tuesdays at 6pm and Saturdays from 11am to 1pm at the downtown Kl
 amath County Library.\nAll fiber crafts are welcome. Share patterns\, get 
 ideas\, and enjoy the company of fellow devotees of all things yarn\, thre
 ad\, and fabric. This event is geared toward adults.\nFor more information
 \, call (541) 882-8894.\n\nMore info: https://klamathlibrary.org/library-e
 vents/fiber-art-circle-0512261800
URL:https://basinbuzz.com/events/fiber-art-circle-2026-05-12
END:VEVENT
END:VCALENDAR
