BEGIN:VCALENDAR
VERSION:2.0
PRODID:-//Basin Buzz//Events//EN
CALSCALE:GREGORIAN
METHOD:PUBLISH
BEGIN:VEVENT
UID:fiber-art-circle-2026-05-26@basinbuzz.com
SUMMARY:Fiber Art Circle
DTSTART:20260526T180000
DTEND:20260526T180000
LOCATION:Klamath County Library\, 126 South Third Street\, Klamath Falls\, 
 OR 97601
DESCRIPTION:View on Basin Buzz: https://basinbuzz.com/events/fiber-art-circ
 le-2026-05-26\n\nHang out with other fiber artists while you work on your 
 knitting\, crochet\, embroidery\, and other projects. Join the Fiber Art C
 ircle to share patterns\, get ideas\, and enjoy the company of fellow devo
 tees of all things yarn\, thread\, and fabric. All fiber crafts are welcom
 e.\nThe group meets Tuesdays at 6pm and Saturdays from 11am to 1pm at the 
 downtown Klamath County Library. Adults of all skill levels welcome.\n\nMo
 re info: https://klamathlibrary.org/library-events/fiber-art-circle-052826
 1800
URL:https://basinbuzz.com/events/fiber-art-circle-2026-05-26
END:VEVENT
END:VCALENDAR
