BEGIN:VCALENDAR
VERSION:2.0
PRODID:-//Basin Buzz//Events//EN
CALSCALE:GREGORIAN
METHOD:PUBLISH
BEGIN:VEVENT
UID:fiber-art-circle-2026-05-30@basinbuzz.com
SUMMARY:Fiber Art Circle
DTSTART:20260530T110000
DTEND:20260530T130000
LOCATION:Klamath County Library\, 126 South Third Street\, Klamath Falls\, 
 OR 97601
DESCRIPTION:View on Basin Buzz: https://basinbuzz.com/events/fiber-art-circ
 le-2026-05-30\n\nHang out with other fiber artists while you work on your 
 knitting\, crochet\, embroidery\, and other projects. Share patterns\, get
  ideas\, and enjoy the company of fellow devotees of all things yarn\, thr
 ead\, and fabric.\nThe Fiber Art Circle meets on Tuesdays at 6:00 PM and S
 aturdays from 11:00 AM to 1:00 PM at the downtown Klamath County Library. 
 All fiber crafts are welcome. This program is geared toward adults.\nFor m
 ore information\, call (541) 882-8894.\n\nMore info: https://klamathlibrar
 y.org/library-events/fiber-art-circle-0530261100
URL:https://basinbuzz.com/events/fiber-art-circle-2026-05-30
END:VEVENT
END:VCALENDAR
