BEGIN:VCALENDAR
VERSION:2.0
PRODID:-//Basin Buzz//Events//EN
CALSCALE:GREGORIAN
METHOD:PUBLISH
BEGIN:VEVENT
UID:fiction-book-club-when-all-is-said-and-done-2026-05-21@basinbuzz.com
SUMMARY:Fiction Book Club: When All Is Said and Done
DTSTART:20260521T160000
DTEND:20260521T160000
LOCATION:Klamath County Library\, 126 South Third Street\, Klamath Falls\, 
 OR 97601
DESCRIPTION:View on Basin Buzz: https://basinbuzz.com/events/fiction-book-c
 lub-when-all-is-said-and-done-2026-05-21\n\nThe Fiction Book Club reads fi
 ction titles of all genres on the third Thursday of the month at 4pm. This
  month the group discusses When All Is Said and Done by Anne Griffin.\nPic
 k up your copy at the Information & Reference desk. If you need a copy sen
 t to a branch\, call (541) 882-8894.\n\nMore info: https://klamathlibrary.
 org/library-events/fiction-book-club-when-all-said-and-done-0521261600
URL:https://basinbuzz.com/events/fiction-book-club-when-all-is-said-and-don
 e-2026-05-21
END:VEVENT
END:VCALENDAR
