BEGIN:VCALENDAR
VERSION:2.0
PRODID:-//Basin Buzz//Events//EN
CALSCALE:GREGORIAN
METHOD:PUBLISH
BEGIN:VEVENT
UID:foreign-film-night-perfect-days-2026-05-06@basinbuzz.com
SUMMARY:Foreign Film Night: Perfect Days
DTSTART:20260506T173000
DTEND:20260506T173000
LOCATION:Klamath County Library\, 126 South Third Street\, Klamath Falls\, 
 OR 97601
DESCRIPTION:View on Basin Buzz: https://basinbuzz.com/events/foreign-film-n
 ight-perfect-days-2026-05-06\n\nJoin a screening of Perfect Days\, a Japan
 ese slice-of-life drama about a janitor who finds beauty in simple pleasur
 es and everyday moments. Hirayama spends his days cleaning public toilets 
 in Tokyo's upscale Shibuya district. Despite having a repetitive routine d
 oing something many people would rather not think about\, Hirayama finds c
 ontentment in the simple things—classic rock music\, reading\, gardening. 
 As a glimpse into one man's ordinary life\, Perfect Days asks us to notice
  the beauty in the mundane.\nDetails: Rated PG\, in Japanese with subtitle
 s\, runs 2 hours 4 minutes. Audience: Adults.\n\nMore info: https://klamat
 hlibrary.org/library-events/foreign-film-night-perfect-days-0508261730
URL:https://basinbuzz.com/events/foreign-film-night-perfect-days-2026-05-06
END:VEVENT
END:VCALENDAR
