BEGIN:VCALENDAR
VERSION:2.0
PRODID:-//Basin Buzz//Events//EN
CALSCALE:GREGORIAN
METHOD:PUBLISH
BEGIN:VEVENT
UID:freedom-from-smoking-support-group-2026-05-05@basinbuzz.com
SUMMARY:Freedom From Smoking Support Group
DTSTART:20260505T140000
DTEND:20260505T153000
LOCATION:Klamath County Library\, 126 South Third Street\, Klamath Falls\, 
 OR 97601
DESCRIPTION:View on Basin Buzz: https://basinbuzz.com/events/freedom-from-s
 moking-support-group-2026-05-05\n\nBased on the American Lung Association'
 s Freedom from Smoking course\, this seminar series teaches you how to pre
 p for a "quit day" and build strategies to maintain your resolve to quit s
 moking for good.\nThe group meets on Tuesdays from 2:00–3:30 PM at the Mai
 n Library. A Zoom version is also available on Sundays at 5:00 PM. Registr
 ation is required.\nFor more information\, contact Amy Slay (Klamath Count
 y Public Health) at 541-882-8846 or aslay@klamathcountyor.gov\; or Kelsey 
 Box (Oregon Spinal Cord Injury Connection) at kelsey@oregonsci.org.\n\nMor
 e info: https://klamathlibrary.org/library-events/freedom-smoking-support-
 group-0505261400
URL:https://basinbuzz.com/events/freedom-from-smoking-support-group-2026-05
 -05
END:VEVENT
END:VCALENDAR
