BEGIN:VCALENDAR
VERSION:2.0
PRODID:-//Basin Buzz//Events//EN
CALSCALE:GREGORIAN
METHOD:PUBLISH
BEGIN:VEVENT
UID:freedom-from-smoking-support-group-2026-05-26@basinbuzz.com
SUMMARY:Freedom From Smoking Support Group
DTSTART:20260526T140000
DTEND:20260526T153000
LOCATION:Klamath County Library\, 126 South Third Street\, Klamath Falls\, 
 OR 97601
DESCRIPTION:View on Basin Buzz: https://basinbuzz.com/events/freedom-from-s
 moking-support-group-2026-05-26\n\nYou can quit smoking\, and we can help!
  In this seminar series based on the American Lung Association's Freedom f
 rom Smoking course\, you'll learn how to prep for a "quit day" and build s
 trategies to stick with your resolve to quit for good.\nThis group meets o
 n Tuesdays from 2:00 PM to 3:30 PM at the Main Library. Registration is re
 quired. If you can't make it on Tuesdays\, you can attend via Zoom on Sund
 ays at 5:00 PM.\nFor more information\, contact Amy Slay (Klamath County P
 ublic Health) at 541-882-8846 or aslay@klamathcountyor.gov\; or Kelsey Box
  (Oregon Spinal Cord Injury Connection) at kelsey@oregonsci.org.\n\nMore i
 nfo: https://klamathlibrary.org/library-events/freedom-smoking-support-gro
 up-0528261400
URL:https://basinbuzz.com/events/freedom-from-smoking-support-group-2026-05
 -26
END:VEVENT
END:VCALENDAR
