BEGIN:VCALENDAR
VERSION:2.0
PRODID:-//Basin Buzz//Events//EN
CALSCALE:GREGORIAN
METHOD:PUBLISH
BEGIN:VEVENT
UID:klamath-basin-genealogical-society-2026-05-14@basinbuzz.com
SUMMARY:Klamath Basin Genealogical Society
DTSTART:20260514T180000
DTEND:20260514T180000
LOCATION:Klamath County Library\, 126 South Third Street\, Klamath Falls\, 
 OR 97601
DESCRIPTION:View on Basin Buzz: https://basinbuzz.com/events/klamath-basin-
 genealogical-society-2026-05-14\n\nThe Klamath Basin Genealogical Society 
 meets at the downtown Klamath County Library on the second Thursday of eac
 h month at 6 PM. The general public is always welcome to join.\nThe Societ
 y also hosts a sub-group focused on using DNA data in genealogy research\,
  which meets on the first Wednesday of the month at 1 PM.\n\nMore info: ht
 tps://klamathlibrary.org/library-events/klamath-basin-genealogical-society
 -0514261800
URL:https://basinbuzz.com/events/klamath-basin-genealogical-society-2026-05
 -14
END:VEVENT
END:VCALENDAR
