BEGIN:VCALENDAR
VERSION:2.0
PRODID:-//Basin Buzz//Events//EN
CALSCALE:GREGORIAN
METHOD:PUBLISH
BEGIN:VEVENT
UID:klamath-basin-genealogical-society-dna-interest-group-2026-05-06@basinb
 uzz.com
SUMMARY:Klamath Basin Genealogical Society - DNA Interest Group
DTSTART:20260506T130000
DTEND:20260506T130000
LOCATION:Klamath County Library\, 126 South Third Street\, Klamath Falls\, 
 OR 97601
DESCRIPTION:View on Basin Buzz: https://basinbuzz.com/events/klamath-basin-
 genealogical-society-dna-interest-group-2026-05-06\n\nThe Klamath Basin Ge
 nealogical Society DNA Interest Group focuses on using DNA data in genealo
 gy research. The group meets on the first Wednesday of each month at 1 pm 
 at the downtown Klamath County Library. The general public is always welco
 me to join.\nThe full Klamath Basin Genealogical Society meets on the seco
 nd Thursday of each month at 6 pm. For additional help with genealogy rese
 arch\, visit the library's genealogy page.\nAudience: Adults\n\nMore info:
  https://klamathlibrary.org/library-events/klamath-basin-genealogical-soci
 ety-dna-interest-group-0508261300
URL:https://basinbuzz.com/events/klamath-basin-genealogical-society-dna-int
 erest-group-2026-05-06
END:VEVENT
END:VCALENDAR
