BEGIN:VCALENDAR
VERSION:2.0
PRODID:-//Basin Buzz//Events//EN
CALSCALE:GREGORIAN
METHOD:PUBLISH
BEGIN:VEVENT
UID:klamath-healthy-places-plan-presentation-2026-05-08@basinbuzz.com
SUMMARY:Klamath Healthy Places Plan Presentation
DTSTART:20260508T153000
DTEND:20260508T153000
LOCATION:Klamath County Library\, 126 South Third Street\, Klamath Falls\, 
 OR 97601
DESCRIPTION:View on Basin Buzz: https://basinbuzz.com/events/klamath-health
 y-places-plan-presentation-2026-05-08\n\nJoin Healthy Klamath\, a network 
 of governments\, nonprofits\, and community organizations\, for an overvie
 w of their action plan to improve community health in the Klamath Basin. L
 earn about next steps including adding amenities to public parks\, distrib
 uting grant money\, improving local festivals and events\, and more.\nAudi
 ence: Adults\n\nMore info: https://klamathlibrary.org/library-events/klama
 th-healthy-places-plan-presentation-0508261530
URL:https://basinbuzz.com/events/klamath-healthy-places-plan-presentation-2
 026-05-08
END:VEVENT
END:VCALENDAR
