BEGIN:VCALENDAR
VERSION:2.0
PRODID:-//Basin Buzz//Events//EN
CALSCALE:GREGORIAN
METHOD:PUBLISH
BEGIN:VEVENT
UID:lil-buddies-storytime-2026-05-05@basinbuzz.com
SUMMARY:Lil' Buddies Storytime
DTSTART:20260505T103000
DTEND:20260505T103000
LOCATION:Klamath County Library\, 126 South Third Street\, Klamath Falls\, 
 OR 97601
DESCRIPTION:View on Basin Buzz: https://basinbuzz.com/events/lil-buddies-st
 orytime-2026-05-05\n\nLil' Buddies Storytime features songs\, stories\, an
 d games for kids from birth to age 5. This weekly program meets every Tues
 day at 10:30 AM.\n\nMore info: https://klamathlibrary.org/library-events/l
 il-buddies-storytime-0505261030
URL:https://basinbuzz.com/events/lil-buddies-storytime-2026-05-05
END:VEVENT
END:VCALENDAR
