BEGIN:VCALENDAR
VERSION:2.0
PRODID:-//Basin Buzz//Events//EN
CALSCALE:GREGORIAN
METHOD:PUBLISH
BEGIN:VEVENT
UID:lil-buddies-storytime-2026-05-19@basinbuzz.com
SUMMARY:Lil' Buddies Storytime
DTSTART:20260519T103000
DTEND:20260519T103000
LOCATION:Klamath County Library\, 126 South Third Street\, Klamath Falls\, 
 OR 97601
DESCRIPTION:View on Basin Buzz: https://basinbuzz.com/events/lil-buddies-st
 orytime-2026-05-19\n\nLil' Buddies Storytime features songs\, stories and 
 games for kids from birth to age 5. This recurring program meets every Tue
 sday at 10:30 AM.\n\nMore info: https://klamathlibrary.org/library-events/
 lil-buddies-storytime-0519261030
URL:https://basinbuzz.com/events/lil-buddies-storytime-2026-05-19
END:VEVENT
END:VCALENDAR
