BEGIN:VCALENDAR
VERSION:2.0
PRODID:-//Basin Buzz//Events//EN
CALSCALE:GREGORIAN
METHOD:PUBLISH
BEGIN:VEVENT
UID:magic-the-gathering-casual-play-for-teens-adults-2026-05-28@basinbuzz.c
 om
SUMMARY:Magic: the Gathering Casual Play for Teens & Adults
DTSTART:20260528T170000
DTEND:20260528T170000
LOCATION:Klamath County Library\, 126 South Third Street\, Klamath Falls\, 
 OR 97601
DESCRIPTION:View on Basin Buzz: https://basinbuzz.com/events/magic-the-gath
 ering-casual-play-for-teens-adults-2026-05-28\n\nJoin a casual play sessio
 n of Magic: the Gathering\, one of the world's most popular collectible ca
 rd games. Bring your own deck or play with one built especially for beginn
 ers. Open to teens and adults ages 12 and up.\n\nMore info: https://klamat
 hlibrary.org/library-events/magic-gathering-casual-play-teens-adults-05282
 61700
URL:https://basinbuzz.com/events/magic-the-gathering-casual-play-for-teens-
 adults-2026-05-28
END:VEVENT
END:VCALENDAR
